BEGIN:VCALENDAR
VERSION:2.0
PRODID:-//KOFC4981.net - ECPv6.15.20//NONSGML v1.0//EN
CALSCALE:GREGORIAN
METHOD:PUBLISH
X-WR-CALNAME:KOFC4981.net
X-ORIGINAL-URL:https://kofc4981.net
X-WR-CALDESC:Events for KOFC4981.net
REFRESH-INTERVAL;VALUE=DURATION:PT1H
X-Robots-Tag:noindex
X-PUBLISHED-TTL:PT1H
BEGIN:VTIMEZONE
TZID:America/Los_Angeles
BEGIN:DAYLIGHT
TZOFFSETFROM:-0800
TZOFFSETTO:-0700
TZNAME:PDT
DTSTART:20250309T100000
END:DAYLIGHT
BEGIN:STANDARD
TZOFFSETFROM:-0700
TZOFFSETTO:-0800
TZNAME:PST
DTSTART:20251102T090000
END:STANDARD
BEGIN:DAYLIGHT
TZOFFSETFROM:-0800
TZOFFSETTO:-0700
TZNAME:PDT
DTSTART:20260308T100000
END:DAYLIGHT
BEGIN:STANDARD
TZOFFSETFROM:-0700
TZOFFSETTO:-0800
TZNAME:PST
DTSTART:20261101T090000
END:STANDARD
BEGIN:DAYLIGHT
TZOFFSETFROM:-0800
TZOFFSETTO:-0700
TZNAME:PDT
DTSTART:20270314T100000
END:DAYLIGHT
BEGIN:STANDARD
TZOFFSETFROM:-0700
TZOFFSETTO:-0800
TZNAME:PST
DTSTART:20271107T090000
END:STANDARD
END:VTIMEZONE
BEGIN:VEVENT
DTSTART;TZID=America/Los_Angeles:20260707T190000
DTEND;TZID=America/Los_Angeles:20260707T210000
DTSTAMP:20260423T160959
CREATED:20260127T232733Z
LAST-MODIFIED:20260127T232733Z
UID:1683-1783450800-1783458000@kofc4981.net
SUMMARY:Business Meeting\, Queen of Apostles 7:00 pm
DESCRIPTION:
URL:https://kofc4981.net/calendar/business-meeting-queen-of-apostles-700-pm-2/
LOCATION:Queen of Apostles Church\, 4911 Moorpark Ave\, San Jose\, CA\, 95129\, United States
END:VEVENT
END:VCALENDAR