BEGIN:VCALENDAR
VERSION:2.0
PRODID:-//KOFC4981.net - ECPv6.15.20//NONSGML v1.0//EN
CALSCALE:GREGORIAN
METHOD:PUBLISH
X-ORIGINAL-URL:https://kofc4981.net
X-WR-CALDESC:Events for KOFC4981.net
REFRESH-INTERVAL;VALUE=DURATION:PT1H
X-Robots-Tag:noindex
X-PUBLISHED-TTL:PT1H
BEGIN:VTIMEZONE
TZID:America/Los_Angeles
BEGIN:DAYLIGHT
TZOFFSETFROM:-0800
TZOFFSETTO:-0700
TZNAME:PDT
DTSTART:20250309T100000
END:DAYLIGHT
BEGIN:STANDARD
TZOFFSETFROM:-0700
TZOFFSETTO:-0800
TZNAME:PST
DTSTART:20251102T090000
END:STANDARD
BEGIN:DAYLIGHT
TZOFFSETFROM:-0800
TZOFFSETTO:-0700
TZNAME:PDT
DTSTART:20260308T100000
END:DAYLIGHT
BEGIN:STANDARD
TZOFFSETFROM:-0700
TZOFFSETTO:-0800
TZNAME:PST
DTSTART:20261101T090000
END:STANDARD
BEGIN:DAYLIGHT
TZOFFSETFROM:-0800
TZOFFSETTO:-0700
TZNAME:PDT
DTSTART:20270314T100000
END:DAYLIGHT
BEGIN:STANDARD
TZOFFSETFROM:-0700
TZOFFSETTO:-0800
TZNAME:PST
DTSTART:20271107T090000
END:STANDARD
END:VTIMEZONE
BEGIN:VEVENT
DTSTART;TZID=America/Los_Angeles:20260203T190000
DTEND;TZID=America/Los_Angeles:20260203T210000
DTSTAMP:20260423T130320
CREATED:20260116T232648Z
LAST-MODIFIED:20260129T023801Z
UID:1590-1770145200-1770152400@kofc4981.net
SUMMARY:Council Business Meeting February 3\, 7:00 p.m. - St. Joseph
DESCRIPTION:St. Joseph of Cupertino\, Fr. Greg Kimm Community Center
URL:https://kofc4981.net/calendar/council-business-meeting-february-3-700-p-m/
LOCATION:St. Joseph of Cupertino\, Fr. Greg Kimm Community Center\, 10110 N De Anza Blvd.\, Cupertino\, CA\, 95014\, United States
END:VEVENT
BEGIN:VEVENT
DTSTART;VALUE=DATE:20260216
DTEND;VALUE=DATE:20260217
DTSTAMP:20260423T130320
CREATED:20260127T231412Z
LAST-MODIFIED:20260127T231412Z
UID:1653-1771200000-1771286399@kofc4981.net
SUMMARY:Washington's Birthday
DESCRIPTION:
URL:https://kofc4981.net/calendar/washingtons-birthday/
END:VEVENT
BEGIN:VEVENT
DTSTART;VALUE=DATE:20260218
DTEND;VALUE=DATE:20260219
DTSTAMP:20260423T130320
CREATED:20260127T231445Z
LAST-MODIFIED:20260127T231445Z
UID:1655-1771372800-1771459199@kofc4981.net
SUMMARY:Ash Wednesday
DESCRIPTION:
URL:https://kofc4981.net/calendar/ash-wednesday/
END:VEVENT
END:VCALENDAR