BEGIN:VCALENDAR
VERSION:2.0
PRODID:-//KOFC4981.net - ECPv6.15.20//NONSGML v1.0//EN
CALSCALE:GREGORIAN
METHOD:PUBLISH
X-ORIGINAL-URL:https://kofc4981.net
X-WR-CALDESC:Events for KOFC4981.net
REFRESH-INTERVAL;VALUE=DURATION:PT1H
X-Robots-Tag:noindex
X-PUBLISHED-TTL:PT1H
BEGIN:VTIMEZONE
TZID:America/Los_Angeles
BEGIN:DAYLIGHT
TZOFFSETFROM:-0800
TZOFFSETTO:-0700
TZNAME:PDT
DTSTART:20250309T100000
END:DAYLIGHT
BEGIN:STANDARD
TZOFFSETFROM:-0700
TZOFFSETTO:-0800
TZNAME:PST
DTSTART:20251102T090000
END:STANDARD
BEGIN:DAYLIGHT
TZOFFSETFROM:-0800
TZOFFSETTO:-0700
TZNAME:PDT
DTSTART:20260308T100000
END:DAYLIGHT
BEGIN:STANDARD
TZOFFSETFROM:-0700
TZOFFSETTO:-0800
TZNAME:PST
DTSTART:20261101T090000
END:STANDARD
BEGIN:DAYLIGHT
TZOFFSETFROM:-0800
TZOFFSETTO:-0700
TZNAME:PDT
DTSTART:20270314T100000
END:DAYLIGHT
BEGIN:STANDARD
TZOFFSETFROM:-0700
TZOFFSETTO:-0800
TZNAME:PST
DTSTART:20271107T090000
END:STANDARD
END:VTIMEZONE
BEGIN:VEVENT
DTSTART;TZID=America/Los_Angeles:20261103T190000
DTEND;TZID=America/Los_Angeles:20261103T210000
DTSTAMP:20260423T202355
CREATED:20260127T233235Z
LAST-MODIFIED:20260127T233235Z
UID:1693-1793732400-1793739600@kofc4981.net
SUMMARY:Business Meeting\, Queen of Apostles 7:00 pm
DESCRIPTION:
URL:https://kofc4981.net/calendar/business-meeting-queen-of-apostles-700-pm-3/
LOCATION:Queen of Apostles Church\, 4911 Moorpark Ave\, San Jose\, CA\, 95129\, United States
END:VEVENT
BEGIN:VEVENT
DTSTART;VALUE=DATE:20261111
DTEND;VALUE=DATE:20261112
DTSTAMP:20260423T202355
CREATED:20260127T233329Z
LAST-MODIFIED:20260127T233329Z
UID:1695-1794355200-1794441599@kofc4981.net
SUMMARY:Veterans Day
DESCRIPTION:
URL:https://kofc4981.net/calendar/veterans-day/
END:VEVENT
BEGIN:VEVENT
DTSTART;VALUE=DATE:20261126
DTEND;VALUE=DATE:20261127
DTSTAMP:20260423T202355
CREATED:20260127T233355Z
LAST-MODIFIED:20260127T233355Z
UID:1697-1795651200-1795737599@kofc4981.net
SUMMARY:Thanksgiving
DESCRIPTION:
URL:https://kofc4981.net/calendar/thanksgiving/
END:VEVENT
BEGIN:VEVENT
DTSTART;VALUE=DATE:20261129
DTEND;VALUE=DATE:20261130
DTSTAMP:20260423T202355
CREATED:20260127T233425Z
LAST-MODIFIED:20260127T233425Z
UID:1699-1795910400-1795996799@kofc4981.net
SUMMARY:Advent
DESCRIPTION:
URL:https://kofc4981.net/calendar/advent/
END:VEVENT
END:VCALENDAR